BEGIN:VCALENDAR
VERSION:2.0
PRODID:-//Skiklub Oker/Harz e.V. - ECPv5.0.0//NONSGML v1.0//EN
CALSCALE:GREGORIAN
METHOD:PUBLISH
X-WR-CALNAME:Skiklub Oker/Harz e.V.
X-ORIGINAL-URL:https://www.skiklub-oker.de
X-WR-CALDESC:Veranstaltungen im Skiklub Oker/Harz e.V.
BEGIN:VTIMEZONE
TZID:Europe/Berlin
BEGIN:DAYLIGHT
TZOFFSETFROM:+0100
TZOFFSETTO:+0200
TZNAME:CEST
DTSTART:20240331T010000
END:DAYLIGHT
BEGIN:STANDARD
TZOFFSETFROM:+0200
TZOFFSETTO:+0100
TZNAME:CET
DTSTART:20241027T010000
END:STANDARD
END:VTIMEZONE
BEGIN:VEVENT
DTSTART;TZID=Europe/Berlin:20240309T100000
DTEND;TZID=Europe/Berlin:20240309T170000
DTSTAMP:20260422T195324
CREATED:20240303T210331Z
LAST-MODIFIED:20240303T210935Z
UID:6394-1709978400-1710003600@www.skiklub-oker.de
SUMMARY:11. Walter-Stoltz-Gedächtnis-Lauf (Tour de Harz)
DESCRIPTION:Am Samstag\, dem 09.03.2024\, richtet die BTSV Eintracht von 1895 e.V. den 11. Walter-Stoltz-Gedächtnis-Lauf auf Sonnenberg aus. Bei nicht ausreichender Schneelage wird der Wettkampf auf der Skirollerstrecke in Clausthal-Zellerfeld durchgeführt. Meldeschluss ist am Mittwoch\, dem 06.03.2024\, um 18 Uhr. Nachmeldungen sind bis 45 min vor dem Start möglich (Nachmeldegebühr 2 €). \nAusschreibung \n
URL:https://www.skiklub-oker.de/event/11-walter-stoltz-gedaechtnis-lauf-tour-de-harz/
END:VEVENT
END:VCALENDAR