BEGIN:VCALENDAR
VERSION:2.0
PRODID:-//Skiklub Oker/Harz e.V. - ECPv5.0.0//NONSGML v1.0//EN
CALSCALE:GREGORIAN
METHOD:PUBLISH
X-WR-CALNAME:Skiklub Oker/Harz e.V.
X-ORIGINAL-URL:https://www.skiklub-oker.de
X-WR-CALDESC:Veranstaltungen im Skiklub Oker/Harz e.V.
BEGIN:VTIMEZONE
TZID:Europe/Berlin
BEGIN:DAYLIGHT
TZOFFSETFROM:+0100
TZOFFSETTO:+0200
TZNAME:CEST
DTSTART:20160327T010000
END:DAYLIGHT
BEGIN:STANDARD
TZOFFSETFROM:+0200
TZOFFSETTO:+0100
TZNAME:CET
DTSTART:20161030T010000
END:STANDARD
END:VTIMEZONE
BEGIN:VEVENT
DTSTART;TZID=Europe/Berlin:20160911T090000
DTEND;TZID=Europe/Berlin:20160911T120000
DTSTAMP:20260424T012400
CREATED:20160815T135918Z
LAST-MODIFIED:20160815T140009Z
UID:2681-1473584400-1473595200@www.skiklub-oker.de
SUMMARY:2. Lauf zur Tour de Harz - Harzmeisterschaft im Skirollerlauf
DESCRIPTION:Der SC Buntenbock ist Ausrichter. Einzelheiten laut Ausschreibung. \n
URL:https://www.skiklub-oker.de/event/2-lauf-tour-de-harz-harzmeisterschaft-im-skirollerlauf/
END:VEVENT
END:VCALENDAR