BEGIN:VCALENDAR
VERSION:2.0
PRODID:-//Skiklub Oker/Harz e.V. - ECPv5.0.0//NONSGML v1.0//EN
CALSCALE:GREGORIAN
METHOD:PUBLISH
X-WR-CALNAME:Skiklub Oker/Harz e.V.
X-ORIGINAL-URL:https://www.skiklub-oker.de
X-WR-CALDESC:Veranstaltungen im Skiklub Oker/Harz e.V.
BEGIN:VTIMEZONE
TZID:Europe/Berlin
BEGIN:DAYLIGHT
TZOFFSETFROM:+0100
TZOFFSETTO:+0200
TZNAME:CEST
DTSTART:20250330T010000
END:DAYLIGHT
BEGIN:STANDARD
TZOFFSETFROM:+0200
TZOFFSETTO:+0100
TZNAME:CET
DTSTART:20251026T010000
END:STANDARD
END:VTIMEZONE
BEGIN:VEVENT
DTSTART;TZID=Europe/Berlin:20250511T100000
DTEND;TZID=Europe/Berlin:20250511T133000
DTSTAMP:20260422T171209
CREATED:20250507T203648Z
LAST-MODIFIED:20250507T203820Z
UID:6676-1746957600-1746970200@www.skiklub-oker.de
SUMMARY:3. Hasselfelder Skihütten Cross
DESCRIPTION:Der Skiverein Hasselfelde richtet am 11.05.2025 den 3. Hasselfelder Skihütten Cross aus. Wer Lust auf ein kurzes Hindernisrennen hat\, muss sich bis morgen den 08.05.2025 unter info@skiverein-hasselfelde.de anmelden. \nAusschreibung: \n
URL:https://www.skiklub-oker.de/event/3-hasselfelder-skihuetten-cross/
END:VEVENT
END:VCALENDAR