BEGIN:VCALENDAR
VERSION:2.0
PRODID:-//Skiklub Oker/Harz e.V. - ECPv5.0.0//NONSGML v1.0//EN
CALSCALE:GREGORIAN
METHOD:PUBLISH
X-WR-CALNAME:Skiklub Oker/Harz e.V.
X-ORIGINAL-URL:https://www.skiklub-oker.de
X-WR-CALDESC:Veranstaltungen im Skiklub Oker/Harz e.V.
BEGIN:VTIMEZONE
TZID:Europe/Berlin
BEGIN:DAYLIGHT
TZOFFSETFROM:+0100
TZOFFSETTO:+0200
TZNAME:CEST
DTSTART:20240331T010000
END:DAYLIGHT
BEGIN:STANDARD
TZOFFSETFROM:+0200
TZOFFSETTO:+0100
TZNAME:CET
DTSTART:20241027T010000
END:STANDARD
END:VTIMEZONE
BEGIN:VEVENT
DTSTART;TZID=Europe/Berlin:20241026T100000
DTEND;TZID=Europe/Berlin:20241026T170000
DTSTAMP:20260423T045249
CREATED:20240808T181552Z
LAST-MODIFIED:20240808T181552Z
UID:6551-1729936800-1729962000@www.skiklub-oker.de
SUMMARY:3. Tour de Harz: Harzmeisterschaft Crosslauf
DESCRIPTION:Ausschreibung \n
URL:https://www.skiklub-oker.de/event/3-tour-de-harz-harzmeisterschaft-crosslauf/
LOCATION:Strecke an der Turnhalle in Buntenbock
END:VEVENT
END:VCALENDAR