BEGIN:VCALENDAR
VERSION:2.0
PRODID:-//Skiklub Oker/Harz e.V. - ECPv5.0.0//NONSGML v1.0//EN
CALSCALE:GREGORIAN
METHOD:PUBLISH
X-WR-CALNAME:Skiklub Oker/Harz e.V.
X-ORIGINAL-URL:https://www.skiklub-oker.de
X-WR-CALDESC:Veranstaltungen im Skiklub Oker/Harz e.V.
BEGIN:VTIMEZONE
TZID:Europe/Berlin
BEGIN:DAYLIGHT
TZOFFSETFROM:+0100
TZOFFSETTO:+0200
TZNAME:CEST
DTSTART:20180325T010000
END:DAYLIGHT
BEGIN:STANDARD
TZOFFSETFROM:+0200
TZOFFSETTO:+0100
TZNAME:CET
DTSTART:20181028T010000
END:STANDARD
END:VTIMEZONE
BEGIN:VEVENT
DTSTART;TZID=Europe/Berlin:20180218T083000
DTEND;TZID=Europe/Berlin:20180218T133000
DTSTAMP:20260421T114238
CREATED:20180108T200352Z
LAST-MODIFIED:20180108T200352Z
UID:4547-1518942600-1518960600@www.skiklub-oker.de
SUMMARY:36. Skridmannlauf
DESCRIPTION:Hochmoorbaude\, Oderbrück Nord Nr. 8\nSkridmannlauf Ausschreibung 2018[78884] \n
URL:https://www.skiklub-oker.de/event/36-skridmannlauf/
END:VEVENT
END:VCALENDAR