BEGIN:VCALENDAR
VERSION:2.0
PRODID:-//Skiklub Oker/Harz e.V. - ECPv5.0.0//NONSGML v1.0//EN
CALSCALE:GREGORIAN
METHOD:PUBLISH
X-WR-CALNAME:Skiklub Oker/Harz e.V.
X-ORIGINAL-URL:https://www.skiklub-oker.de
X-WR-CALDESC:Veranstaltungen im Skiklub Oker/Harz e.V.
BEGIN:VTIMEZONE
TZID:Europe/Berlin
BEGIN:DAYLIGHT
TZOFFSETFROM:+0100
TZOFFSETTO:+0200
TZNAME:CEST
DTSTART:20250330T010000
END:DAYLIGHT
BEGIN:STANDARD
TZOFFSETFROM:+0200
TZOFFSETTO:+0100
TZNAME:CET
DTSTART:20251026T010000
END:STANDARD
END:VTIMEZONE
BEGIN:VEVENT
DTSTART;TZID=Europe/Berlin:20250209T080000
DTEND;TZID=Europe/Berlin:20250209T170000
DTSTAMP:20260423T013739
CREATED:20240808T182116Z
LAST-MODIFIED:20240808T182116Z
UID:6561-1739088000-1739120400@www.skiklub-oker.de
SUMMARY:6. Tour de Harz: Doppelstart - CL
DESCRIPTION:
URL:https://www.skiklub-oker.de/event/6-tour-de-harz-doppelstart-cl/
END:VEVENT
END:VCALENDAR