BEGIN:VCALENDAR
VERSION:2.0
PRODID:-//Skiklub Oker/Harz e.V. - ECPv5.0.0//NONSGML v1.0//EN
CALSCALE:GREGORIAN
METHOD:PUBLISH
X-WR-CALNAME:Skiklub Oker/Harz e.V.
X-ORIGINAL-URL:https://www.skiklub-oker.de
X-WR-CALDESC:Veranstaltungen im Skiklub Oker/Harz e.V.
BEGIN:VTIMEZONE
TZID:Europe/Berlin
BEGIN:DAYLIGHT
TZOFFSETFROM:+0100
TZOFFSETTO:+0200
TZNAME:CEST
DTSTART:20180325T010000
END:DAYLIGHT
BEGIN:STANDARD
TZOFFSETFROM:+0200
TZOFFSETTO:+0100
TZNAME:CET
DTSTART:20181028T010000
END:STANDARD
END:VTIMEZONE
BEGIN:VEVENT
DTSTART;TZID=Europe/Berlin:20180113T170000
DTEND;TZID=Europe/Berlin:20180113T200000
DTSTAMP:20260421T165353
CREATED:20180108T195343Z
LAST-MODIFIED:20180108T195343Z
UID:4544-1515862800-1515873600@www.skiklub-oker.de
SUMMARY:7. Lauf TdH
DESCRIPTION:38. Buntenbocker Nachtsprintlauf\n2018-Tdh7-Sprint \n
URL:https://www.skiklub-oker.de/event/7-lauf-tdh/
END:VEVENT
END:VCALENDAR