BEGIN:VCALENDAR
VERSION:2.0
PRODID:-//Skiklub Oker/Harz e.V. - ECPv5.0.0//NONSGML v1.0//EN
CALSCALE:GREGORIAN
METHOD:PUBLISH
X-WR-CALNAME:Skiklub Oker/Harz e.V.
X-ORIGINAL-URL:https://www.skiklub-oker.de
X-WR-CALDESC:Veranstaltungen im Skiklub Oker/Harz e.V.
BEGIN:VTIMEZONE
TZID:Europe/Berlin
BEGIN:DAYLIGHT
TZOFFSETFROM:+0100
TZOFFSETTO:+0200
TZNAME:CEST
DTSTART:20170326T010000
END:DAYLIGHT
BEGIN:STANDARD
TZOFFSETFROM:+0200
TZOFFSETTO:+0100
TZNAME:CET
DTSTART:20171029T010000
END:STANDARD
END:VTIMEZONE
BEGIN:VEVENT
DTSTART;TZID=Europe/Berlin:20170325T140000
DTEND;TZID=Europe/Berlin:20170325T170000
DTSTAMP:20260423T075026
CREATED:20170306T162007Z
LAST-MODIFIED:20170320T173224Z
UID:3091-1490450400-1490461200@www.skiklub-oker.de
SUMMARY:Abschlussfeier Tour de Harz 2016/2017
DESCRIPTION:href=“http://nds-skiverband.de/16-17/Einladung_Abschlussfeier_TdH_2017.pdf“>Hier sind die Einladung zur Abschlussfeier im Kurhaus St. Andreasberg. \n
URL:https://www.skiklub-oker.de/event/abschlussfeier-tour-de-harz-20162017/
END:VEVENT
END:VCALENDAR