BEGIN:VCALENDAR
VERSION:2.0
PRODID:-//Skiklub Oker/Harz e.V. - ECPv5.0.0//NONSGML v1.0//EN
CALSCALE:GREGORIAN
METHOD:PUBLISH
X-WR-CALNAME:Skiklub Oker/Harz e.V.
X-ORIGINAL-URL:https://www.skiklub-oker.de
X-WR-CALDESC:Veranstaltungen im Skiklub Oker/Harz e.V.
BEGIN:VTIMEZONE
TZID:Europe/Berlin
BEGIN:DAYLIGHT
TZOFFSETFROM:+0100
TZOFFSETTO:+0200
TZNAME:CEST
DTSTART:20160327T010000
END:DAYLIGHT
BEGIN:STANDARD
TZOFFSETFROM:+0200
TZOFFSETTO:+0100
TZNAME:CET
DTSTART:20161030T010000
END:STANDARD
END:VTIMEZONE
BEGIN:VEVENT
DTSTART;TZID=Europe/Berlin:20160827T100000
DTEND;TZID=Europe/Berlin:20160827T130000
DTSTAMP:20260424T042337
CREATED:20160714T204922Z
LAST-MODIFIED:20160714T204922Z
UID:2667-1472292000-1472302800@www.skiklub-oker.de
SUMMARY:Arbeitseinsatz Loipen
DESCRIPTION:		Förderverein Oberharzer Loipen von 1984 e. V.\n		Vorsitzender  Kurt Lütjens\n		Erlenbruch 12 g\n		38110 Braunschweig\n		Telefon: 05307 – 5238\n		Email: luetjensk@web.de \nAn die\nMitgliedervereine u. Einzelmitglieder\ndes Fördervereins Oberharzer Loipen e. V. \nLiebe Skikameradinnen\, liebe Skikameraden\, \ntrotz besten Sommerwetters lassen uns die Gedanken an den nächsten Winter nicht los.\nWie jedes Jahr haben wir auch in diesem Jahr Vorbereitungen zu treffen\, um ein bestmögliches Spuren unserer Loipen durch den Nationalpark zu gewährleisten.\nDaher möchten wir zu einem Arbeitseinsatz an der Westseite des Oderteiches am \n			Samstag\, dem 27. August 2016\neinladen.\nHier sind Wegrandbeschneidungen notwendig. \nWir treffen uns um 10 Uhr am Parkplatz an der Oderteichstaumauer. Wenn möglich\, bringt geeignete Werkzeuge (Handsägen\, Astscheren etc.) mit. Kettensägen sind vorhanden.\nAnschließend laden wir die Teilnehmer/innen zu einem mittäglichen Imbiss ein. \nIch hoffe sehr\, dass Ihr diesem Aufruf folge leistet und sich genügend Teilehmer/innen einfinden werden. \nBitte gebt mir eine kurze Rückmeldung\, wer teilnehmen wird. \nHerzliche Grüße\nKurt Lütjens \n
URL:https://www.skiklub-oker.de/event/arbeitseinsatz-loipen/
END:VEVENT
END:VCALENDAR