BEGIN:VCALENDAR
VERSION:2.0
PRODID:-//Skiklub Oker/Harz e.V. - ECPv5.0.0//NONSGML v1.0//EN
CALSCALE:GREGORIAN
METHOD:PUBLISH
X-WR-CALNAME:Skiklub Oker/Harz e.V.
X-ORIGINAL-URL:https://www.skiklub-oker.de
X-WR-CALDESC:Veranstaltungen im Skiklub Oker/Harz e.V.
BEGIN:VTIMEZONE
TZID:Europe/Berlin
BEGIN:DAYLIGHT
TZOFFSETFROM:+0100
TZOFFSETTO:+0200
TZNAME:CEST
DTSTART:20160327T010000
END:DAYLIGHT
BEGIN:STANDARD
TZOFFSETFROM:+0200
TZOFFSETTO:+0100
TZNAME:CET
DTSTART:20161030T010000
END:STANDARD
END:VTIMEZONE
BEGIN:VEVENT
DTSTART;TZID=Europe/Berlin:20160828T080000
DTEND;TZID=Europe/Berlin:20160828T160000
DTSTAMP:20260424T025040
CREATED:20160514T194741Z
LAST-MODIFIED:20160514T194741Z
UID:2608-1472371200-1472400000@www.skiklub-oker.de
SUMMARY:Autofreies Innerstetal
DESCRIPTION:Wir machen mit\, ob auf Fahrrädern\, auf Inlinern oder Skirollern… \n
URL:https://www.skiklub-oker.de/event/autofreies-innerstetal/
END:VEVENT
END:VCALENDAR