BEGIN:VCALENDAR
VERSION:2.0
PRODID:-//Skiklub Oker/Harz e.V. - ECPv5.0.0//NONSGML v1.0//EN
CALSCALE:GREGORIAN
METHOD:PUBLISH
X-WR-CALNAME:Skiklub Oker/Harz e.V.
X-ORIGINAL-URL:https://www.skiklub-oker.de
X-WR-CALDESC:Veranstaltungen im Skiklub Oker/Harz e.V.
BEGIN:VTIMEZONE
TZID:Europe/Berlin
BEGIN:DAYLIGHT
TZOFFSETFROM:+0100
TZOFFSETTO:+0200
TZNAME:CEST
DTSTART:20230326T010000
END:DAYLIGHT
BEGIN:STANDARD
TZOFFSETFROM:+0200
TZOFFSETTO:+0100
TZNAME:CET
DTSTART:20231029T010000
END:STANDARD
END:VTIMEZONE
BEGIN:VEVENT
DTSTART;VALUE=DATE:20230923
DTEND;VALUE=DATE:20230924
DTSTAMP:20260422T043118
CREATED:20230820T202441Z
LAST-MODIFIED:20230820T203059Z
UID:6120-1695427200-1695513599@www.skiklub-oker.de
SUMMARY:Berganstiegslauf Skiroller am Geiseltalsee bei Merseburg
DESCRIPTION:Ausschreibung: Auschreibung 12_Berganstiegslauf \n
URL:https://www.skiklub-oker.de/event/berganstiegslauf-skiroller/
LOCATION:Geiseltalsee
END:VEVENT
END:VCALENDAR