BEGIN:VCALENDAR
VERSION:2.0
PRODID:-//Skiklub Oker/Harz e.V. - ECPv5.0.0//NONSGML v1.0//EN
CALSCALE:GREGORIAN
METHOD:PUBLISH
X-WR-CALNAME:Skiklub Oker/Harz e.V.
X-ORIGINAL-URL:https://www.skiklub-oker.de
X-WR-CALDESC:Veranstaltungen im Skiklub Oker/Harz e.V.
BEGIN:VTIMEZONE
TZID:Europe/Berlin
BEGIN:DAYLIGHT
TZOFFSETFROM:+0100
TZOFFSETTO:+0200
TZNAME:CEST
DTSTART:20160327T010000
END:DAYLIGHT
BEGIN:STANDARD
TZOFFSETFROM:+0200
TZOFFSETTO:+0100
TZNAME:CET
DTSTART:20161030T010000
END:STANDARD
END:VTIMEZONE
BEGIN:VEVENT
DTSTART;TZID=Europe/Berlin:20160916T180000
DTEND;TZID=Europe/Berlin:20160916T220000
DTSTAMP:20260423T233517
CREATED:20160627T175057Z
LAST-MODIFIED:20160627T175606Z
UID:2652-1474048800-1474063200@www.skiklub-oker.de
SUMMARY:Damenausflug Breaking´Mozart
DESCRIPTION:Festival KulturImZelt Braunschweig\nBreakin`Mozart\n„Klassik meets Breakdance“\nDie Europameister und zweifachen Weltmeister im Breakdance DDC und der Berliner Dirigent und Opernregisseur Christoph Hagel kombinieren erstmals Breakdance mit der Musik von Mozart in einer abendfüllenden Show. Die jungen Tänzer und Tänzerinnen stellen sich der Herausforderung Mozarts und verbinden ihre Kunst auf einzigartige Weise mit der Musik des Wiener Wunderkindes. Mozart erklingt im Original live am Klavier interpretiert von Christoph Hagel\, in Orchesterversionen und in modernen HipHop – Bearbeitungen. Die berühmten Koloraturarien der Königin der Nacht aus der „Zauberflöte“ live gesungen zu einem Feuerwerk mit Breakdance.\nTermin:                16. September 2016\nAbfahrt:               18:00 Uhr\nTreffpunkt:            Parkplatz am Sportpark an der Rennbahn (Fahrgemeinschaften!)\nTicketpreis:           35\,00 €\nAnmeldung nur bis 15. Juli 2016 möglich!\nBitte überweist mir den Ticketpreis bis 15.Juli 2016: Elke Jahn\, IBAN: DE26 2501 0030 0214 2573 03\nSki Heil\,\nElke Jahn \n
URL:https://www.skiklub-oker.de/event/damenausflug-breakingmozart/
END:VEVENT
END:VCALENDAR