BEGIN:VCALENDAR
VERSION:2.0
PRODID:-//Skiklub Oker/Harz e.V. - ECPv5.0.0//NONSGML v1.0//EN
CALSCALE:GREGORIAN
METHOD:PUBLISH
X-WR-CALNAME:Skiklub Oker/Harz e.V.
X-ORIGINAL-URL:https://www.skiklub-oker.de
X-WR-CALDESC:Veranstaltungen im Skiklub Oker/Harz e.V.
BEGIN:VTIMEZONE
TZID:Europe/Berlin
BEGIN:DAYLIGHT
TZOFFSETFROM:+0100
TZOFFSETTO:+0200
TZNAME:CEST
DTSTART:20190331T010000
END:DAYLIGHT
BEGIN:STANDARD
TZOFFSETFROM:+0200
TZOFFSETTO:+0100
TZNAME:CET
DTSTART:20191027T010000
END:STANDARD
END:VTIMEZONE
BEGIN:VEVENT
DTSTART;TZID=Europe/Berlin:20190216T100000
DTEND;TZID=Europe/Berlin:20190217T143000
DTSTAMP:20260421T213848
CREATED:20190204T212404Z
LAST-MODIFIED:20190204T212404Z
UID:5131-1550311200-1550413800@www.skiklub-oker.de
SUMMARY:Deutsche Meisterschaften im Ski-OL
DESCRIPTION:Deutsche Meisterschaften und Weltranglistenlauf Mitteldistanz\nAusschreibung DM Ski-OL 2019 \n
URL:https://www.skiklub-oker.de/event/deutsche-meisterschaften-im-ski-ol/
END:VEVENT
END:VCALENDAR