BEGIN:VCALENDAR
VERSION:2.0
PRODID:-//Skiklub Oker/Harz e.V. - ECPv5.0.0//NONSGML v1.0//EN
CALSCALE:GREGORIAN
METHOD:PUBLISH
X-WR-CALNAME:Skiklub Oker/Harz e.V.
X-ORIGINAL-URL:https://www.skiklub-oker.de
X-WR-CALDESC:Veranstaltungen im Skiklub Oker/Harz e.V.
BEGIN:VTIMEZONE
TZID:Europe/Berlin
BEGIN:DAYLIGHT
TZOFFSETFROM:+0100
TZOFFSETTO:+0200
TZNAME:CEST
DTSTART:20170326T010000
END:DAYLIGHT
BEGIN:STANDARD
TZOFFSETFROM:+0200
TZOFFSETTO:+0100
TZNAME:CET
DTSTART:20171029T010000
END:STANDARD
END:VTIMEZONE
BEGIN:VEVENT
DTSTART;TZID=Europe/Berlin:20171216T100000
DTEND;TZID=Europe/Berlin:20171216T150000
DTSTAMP:20260421T202309
CREATED:20171207T180511Z
LAST-MODIFIED:20171207T180511Z
UID:4027-1513418400-1513436400@www.skiklub-oker.de
SUMMARY:Eröffnungslauf LLZ Sonnenberg
DESCRIPTION:CL-DS_171216_Ausschreibung \n
URL:https://www.skiklub-oker.de/event/eroeffnungslauf-llz-sonnenberg/
END:VEVENT
END:VCALENDAR