BEGIN:VCALENDAR
VERSION:2.0
PRODID:-//Skiklub Oker/Harz e.V. - ECPv5.0.0//NONSGML v1.0//EN
CALSCALE:GREGORIAN
METHOD:PUBLISH
X-WR-CALNAME:Skiklub Oker/Harz e.V.
X-ORIGINAL-URL:https://www.skiklub-oker.de
X-WR-CALDESC:Veranstaltungen im Skiklub Oker/Harz e.V.
BEGIN:VTIMEZONE
TZID:Europe/Berlin
BEGIN:DAYLIGHT
TZOFFSETFROM:+0100
TZOFFSETTO:+0200
TZNAME:CEST
DTSTART:20160327T010000
END:DAYLIGHT
BEGIN:STANDARD
TZOFFSETFROM:+0200
TZOFFSETTO:+0100
TZNAME:CET
DTSTART:20161030T010000
END:STANDARD
END:VTIMEZONE
BEGIN:VEVENT
DTSTART;TZID=Europe/Berlin:20161014T170000
DTEND;TZID=Europe/Berlin:20161016T130000
DTSTAMP:20260423T205035
CREATED:20160927T210100Z
LAST-MODIFIED:20160927T210212Z
UID:2734-1476464400-1476622800@www.skiklub-oker.de
SUMMARY:Herbst-Wochenendlehrgang Skihütte
DESCRIPTION:Trainingslehrgang Cross- und Skirollerlauf für Kinder und Jugendliche. Einzelheiten folgen. \n
URL:https://www.skiklub-oker.de/event/herbst-wochenendlehrgang-skihuette/
END:VEVENT
END:VCALENDAR