BEGIN:VCALENDAR
VERSION:2.0
PRODID:-//Skiklub Oker/Harz e.V. - ECPv5.0.0//NONSGML v1.0//EN
CALSCALE:GREGORIAN
METHOD:PUBLISH
X-WR-CALNAME:Skiklub Oker/Harz e.V.
X-ORIGINAL-URL:https://www.skiklub-oker.de
X-WR-CALDESC:Veranstaltungen im Skiklub Oker/Harz e.V.
BEGIN:VTIMEZONE
TZID:Europe/Berlin
BEGIN:DAYLIGHT
TZOFFSETFROM:+0100
TZOFFSETTO:+0200
TZNAME:CEST
DTSTART:20250330T010000
END:DAYLIGHT
BEGIN:STANDARD
TZOFFSETFROM:+0200
TZOFFSETTO:+0100
TZNAME:CET
DTSTART:20251026T010000
END:STANDARD
END:VTIMEZONE
BEGIN:VEVENT
DTSTART;TZID=Europe/Berlin:20250601T100000
DTEND;TZID=Europe/Berlin:20250601T140000
DTSTAMP:20260422T200810
CREATED:20250507T205050Z
LAST-MODIFIED:20250507T205426Z
UID:6683-1748772000-1748786400@www.skiklub-oker.de
SUMMARY:Kombiwettkampf Inline-Cross in Benneckenstein
DESCRIPTION:Ausschreibung \n
URL:https://www.skiklub-oker.de/event/kombiwettkampf-inline-cross-in-benneckenstein/
LOCATION:Benneckenstein
END:VEVENT
END:VCALENDAR