BEGIN:VCALENDAR
VERSION:2.0
PRODID:-//Skiklub Oker/Harz e.V. - ECPv5.0.0//NONSGML v1.0//EN
CALSCALE:GREGORIAN
METHOD:PUBLISH
X-WR-CALNAME:Skiklub Oker/Harz e.V.
X-ORIGINAL-URL:https://www.skiklub-oker.de
X-WR-CALDESC:Veranstaltungen im Skiklub Oker/Harz e.V.
BEGIN:VTIMEZONE
TZID:Europe/Berlin
BEGIN:DAYLIGHT
TZOFFSETFROM:+0100
TZOFFSETTO:+0200
TZNAME:CEST
DTSTART:20180325T010000
END:DAYLIGHT
BEGIN:STANDARD
TZOFFSETFROM:+0200
TZOFFSETTO:+0100
TZNAME:CET
DTSTART:20181028T010000
END:STANDARD
END:VTIMEZONE
BEGIN:VEVENT
DTSTART;TZID=Europe/Berlin:20181215T100000
DTEND;TZID=Europe/Berlin:20181215T140000
DTSTAMP:20260421T091219
CREATED:20181118T200816Z
LAST-MODIFIED:20181118T200906Z
UID:5025-1544868000-1544882400@www.skiklub-oker.de
SUMMARY:LVM Lange Strecke 2018
DESCRIPTION:Saisoneröffnungslauf (Nachholtermin)\nBTSV Eintracht LLZ Sonnenberg\nEnladung und Ausschreibung \n
URL:https://www.skiklub-oker.de/event/lvm-lange-strecke-2018/
END:VEVENT
END:VCALENDAR