BEGIN:VCALENDAR
VERSION:2.0
PRODID:-//Skiklub Oker/Harz e.V. - ECPv5.0.0//NONSGML v1.0//EN
CALSCALE:GREGORIAN
METHOD:PUBLISH
X-WR-CALNAME:Skiklub Oker/Harz e.V.
X-ORIGINAL-URL:https://www.skiklub-oker.de
X-WR-CALDESC:Veranstaltungen im Skiklub Oker/Harz e.V.
BEGIN:VTIMEZONE
TZID:Europe/Berlin
BEGIN:DAYLIGHT
TZOFFSETFROM:+0100
TZOFFSETTO:+0200
TZNAME:CEST
DTSTART:20250330T010000
END:DAYLIGHT
BEGIN:STANDARD
TZOFFSETFROM:+0200
TZOFFSETTO:+0100
TZNAME:CET
DTSTART:20251026T010000
END:STANDARD
END:VTIMEZONE
BEGIN:VEVENT
DTSTART;TZID=Europe/Berlin:20250426T080000
DTEND;TZID=Europe/Berlin:20250426T120000
DTSTAMP:20260422T201434
CREATED:20250408T203013Z
LAST-MODIFIED:20250408T204316Z
UID:6651-1745654400-1745668800@www.skiklub-oker.de
SUMMARY:Materialrückgabe und Arbeitseinsatz
DESCRIPTION:
URL:https://www.skiklub-oker.de/event/materialrueckgabe-und-arbeitseinsatz/
LOCATION:Skihütte\, Goetheweg 3\, Altenau\, 38667\, Deutschland
END:VEVENT
END:VCALENDAR