BEGIN:VCALENDAR
VERSION:2.0
PRODID:-//Skiklub Oker/Harz e.V. - ECPv5.0.0//NONSGML v1.0//EN
CALSCALE:GREGORIAN
METHOD:PUBLISH
X-WR-CALNAME:Skiklub Oker/Harz e.V.
X-ORIGINAL-URL:https://www.skiklub-oker.de
X-WR-CALDESC:Veranstaltungen im Skiklub Oker/Harz e.V.
BEGIN:VTIMEZONE
TZID:Europe/Berlin
BEGIN:DAYLIGHT
TZOFFSETFROM:+0100
TZOFFSETTO:+0200
TZNAME:CEST
DTSTART:20170326T010000
END:DAYLIGHT
BEGIN:STANDARD
TZOFFSETFROM:+0200
TZOFFSETTO:+0100
TZNAME:CET
DTSTART:20171029T010000
END:STANDARD
END:VTIMEZONE
BEGIN:VEVENT
DTSTART;TZID=Europe/Berlin:20170705T180000
DTEND;TZID=Europe/Berlin:20170705T200000
DTSTAMP:20260422T144507
CREATED:20170621T211211Z
LAST-MODIFIED:20170629T191817Z
UID:3313-1499277600-1499284800@www.skiklub-oker.de
SUMMARY:Mountainbike-Tour
DESCRIPTION:Für alle Interessierten als Ersatz zum Mittwochsport \ngefahren wird gemäßigtes Tempo und evtl. am Ende zur Eisdiele \nTreffen am Parkplatz Sportpark in Bad Harzburg \n
URL:https://www.skiklub-oker.de/event/mountainbike-tour/
END:VEVENT
END:VCALENDAR