BEGIN:VCALENDAR
VERSION:2.0
PRODID:-//Skiklub Oker/Harz e.V. - ECPv5.0.0//NONSGML v1.0//EN
CALSCALE:GREGORIAN
METHOD:PUBLISH
X-WR-CALNAME:Skiklub Oker/Harz e.V.
X-ORIGINAL-URL:https://www.skiklub-oker.de
X-WR-CALDESC:Veranstaltungen im Skiklub Oker/Harz e.V.
BEGIN:VTIMEZONE
TZID:Europe/Berlin
BEGIN:DAYLIGHT
TZOFFSETFROM:+0100
TZOFFSETTO:+0200
TZNAME:CEST
DTSTART:20170326T010000
END:DAYLIGHT
BEGIN:STANDARD
TZOFFSETFROM:+0200
TZOFFSETTO:+0100
TZNAME:CET
DTSTART:20171029T010000
END:STANDARD
END:VTIMEZONE
BEGIN:VEVENT
DTSTART;TZID=Europe/Berlin:20170226T090000
DTEND;TZID=Europe/Berlin:20170226T130000
DTSTAMP:20260423T075423
CREATED:20161120T192355Z
LAST-MODIFIED:20170130T224044Z
UID:2798-1488099600-1488114000@www.skiklub-oker.de
SUMMARY:Oberförster-Ulrichs-Lauf in Braunlage\, wir sind Ausrichter
DESCRIPTION:Hier ist die Ausschreibung: Oberförster-Ulrichs-Lauf als 8. Lauf der Tour de Harz. \n
URL:https://www.skiklub-oker.de/event/oberfoerster-ulrichs-lauf-in-braunlage-wir-sind-ausrichter/
END:VEVENT
END:VCALENDAR