BEGIN:VCALENDAR
VERSION:2.0
PRODID:-//Skiklub Oker/Harz e.V. - ECPv5.0.0//NONSGML v1.0//EN
CALSCALE:GREGORIAN
METHOD:PUBLISH
X-WR-CALNAME:Skiklub Oker/Harz e.V.
X-ORIGINAL-URL:https://www.skiklub-oker.de
X-WR-CALDESC:Veranstaltungen im Skiklub Oker/Harz e.V.
BEGIN:VTIMEZONE
TZID:Europe/Berlin
BEGIN:DAYLIGHT
TZOFFSETFROM:+0100
TZOFFSETTO:+0200
TZNAME:CEST
DTSTART:20160327T010000
END:DAYLIGHT
BEGIN:STANDARD
TZOFFSETFROM:+0200
TZOFFSETTO:+0100
TZNAME:CET
DTSTART:20161030T010000
END:STANDARD
END:VTIMEZONE
BEGIN:VEVENT
DTSTART;TZID=Europe/Berlin:20161120T100000
DTEND;TZID=Europe/Berlin:20161120T160000
DTSTAMP:20260423T122408
CREATED:20160927T210009Z
LAST-MODIFIED:20160927T210009Z
UID:2733-1479636000-1479657600@www.skiklub-oker.de
SUMMARY:Saisoneröffnung
DESCRIPTION:Treffen zum Saisonauftakt mit sportlichem Beginn je nach Wetter- und Schneelage. Gemeinsames Mittagessen in der Hütte. Absprachen zu Training und Terminen\, Kakao/Kaffee und Kuchen. \n
URL:https://www.skiklub-oker.de/event/saisoneroeffnung-2/
END:VEVENT
END:VCALENDAR