BEGIN:VCALENDAR
VERSION:2.0
PRODID:-//Skiklub Oker/Harz e.V. - ECPv5.0.0//NONSGML v1.0//EN
CALSCALE:GREGORIAN
METHOD:PUBLISH
X-WR-CALNAME:Skiklub Oker/Harz e.V.
X-ORIGINAL-URL:https://www.skiklub-oker.de
X-WR-CALDESC:Veranstaltungen im Skiklub Oker/Harz e.V.
BEGIN:VTIMEZONE
TZID:Europe/Berlin
BEGIN:DAYLIGHT
TZOFFSETFROM:+0100
TZOFFSETTO:+0200
TZNAME:CEST
DTSTART:20230326T010000
END:DAYLIGHT
BEGIN:STANDARD
TZOFFSETFROM:+0200
TZOFFSETTO:+0100
TZNAME:CET
DTSTART:20231029T010000
END:STANDARD
END:VTIMEZONE
BEGIN:VEVENT
DTSTART;TZID=Europe/Berlin:20231125T100000
DTEND;TZID=Europe/Berlin:20231125T130000
DTSTAMP:20260422T163739
CREATED:20230922T124654Z
LAST-MODIFIED:20231108T165702Z
UID:6175-1700906400-1700917200@www.skiklub-oker.de
SUMMARY:Skibasar SK Oker
DESCRIPTION:Der Skiklub Oker richtet wieder einen Skibasar aus. Dieser findet am 25.11.2023 in der Berufsbildende Schule Bad Harzburg\, Wichernstraße 6\, statt. Dort besteht die Möglichkeit sich bestens für den Winter mit Skimaterial einzudecken sowie Material weiterzureichen. \n
URL:https://www.skiklub-oker.de/event/skibasar-4/
LOCATION:BBS Bad Harzburg\, Wichernstraße 6\, Bad Harzburg\, Niedersachsen\, 38667\, Deutschland
END:VEVENT
END:VCALENDAR