BEGIN:VCALENDAR
VERSION:2.0
PRODID:-//Skiklub Oker/Harz e.V. - ECPv5.0.0//NONSGML v1.0//EN
CALSCALE:GREGORIAN
METHOD:PUBLISH
X-WR-CALNAME:Skiklub Oker/Harz e.V.
X-ORIGINAL-URL:https://www.skiklub-oker.de
X-WR-CALDESC:Veranstaltungen im Skiklub Oker/Harz e.V.
BEGIN:VTIMEZONE
TZID:Europe/Berlin
BEGIN:DAYLIGHT
TZOFFSETFROM:+0100
TZOFFSETTO:+0200
TZNAME:CEST
DTSTART:20220327T010000
END:DAYLIGHT
BEGIN:STANDARD
TZOFFSETFROM:+0200
TZOFFSETTO:+0100
TZNAME:CET
DTSTART:20221030T010000
END:STANDARD
END:VTIMEZONE
BEGIN:VEVENT
DTSTART;TZID=Europe/Berlin:20221126T100000
DTEND;TZID=Europe/Berlin:20221126T130000
DTSTAMP:20260421T152354
CREATED:20221113T205013Z
LAST-MODIFIED:20221113T205013Z
UID:5965-1669456800-1669467600@www.skiklub-oker.de
SUMMARY:Skibasar SK Oker in Bad Harzburg\, Wichernstraße 6\, Aula der BBS
DESCRIPTION:
URL:https://www.skiklub-oker.de/event/skibasar-sk-oker-in-bad-harzburg-wichernstrasse-6-aula-der-bbs/
END:VEVENT
END:VCALENDAR