BEGIN:VCALENDAR
VERSION:2.0
PRODID:-//Skiklub Oker/Harz e.V. - ECPv5.0.0//NONSGML v1.0//EN
CALSCALE:GREGORIAN
METHOD:PUBLISH
X-WR-CALNAME:Skiklub Oker/Harz e.V.
X-ORIGINAL-URL:https://www.skiklub-oker.de
X-WR-CALDESC:Veranstaltungen im Skiklub Oker/Harz e.V.
BEGIN:VTIMEZONE
TZID:Europe/Berlin
BEGIN:DAYLIGHT
TZOFFSETFROM:+0100
TZOFFSETTO:+0200
TZNAME:CEST
DTSTART:20230326T010000
END:DAYLIGHT
BEGIN:STANDARD
TZOFFSETFROM:+0200
TZOFFSETTO:+0100
TZNAME:CET
DTSTART:20231029T010000
END:STANDARD
END:VTIMEZONE
BEGIN:VEVENT
DTSTART;VALUE=DATE:20231007
DTEND;VALUE=DATE:20231008
DTSTAMP:20260422T062052
CREATED:20230820T201144Z
LAST-MODIFIED:20230820T203127Z
UID:6115-1696636800-1696723199@www.skiklub-oker.de
SUMMARY:Skiroller Einzel C Distanz im Zellerfelder Tal (4. Wettkampf Tour de Harz)
DESCRIPTION:Ausschreibung: 4 TdH TdH2023_4_Rollerlauf \n
URL:https://www.skiklub-oker.de/event/skiroller-einzel-c-distanz-4-wettkampf-tour-de-harz/
END:VEVENT
END:VCALENDAR