BEGIN:VCALENDAR
VERSION:2.0
PRODID:-//Skiklub Oker/Harz e.V. - ECPv5.0.0//NONSGML v1.0//EN
CALSCALE:GREGORIAN
METHOD:PUBLISH
X-WR-CALNAME:Skiklub Oker/Harz e.V.
X-ORIGINAL-URL:https://www.skiklub-oker.de
X-WR-CALDESC:Veranstaltungen im Skiklub Oker/Harz e.V.
BEGIN:VTIMEZONE
TZID:Europe/Berlin
BEGIN:DAYLIGHT
TZOFFSETFROM:+0100
TZOFFSETTO:+0200
TZNAME:CEST
DTSTART:20220327T010000
END:DAYLIGHT
BEGIN:STANDARD
TZOFFSETFROM:+0200
TZOFFSETTO:+0100
TZNAME:CET
DTSTART:20221030T010000
END:STANDARD
END:VTIMEZONE
BEGIN:VEVENT
DTSTART;TZID=Europe/Berlin:20220903T100000
DTEND;TZID=Europe/Berlin:20220903T150000
DTSTAMP:20260421T091219
CREATED:20220830T194636Z
LAST-MODIFIED:20220830T194636Z
UID:5867-1662199200-1662217200@www.skiklub-oker.de
SUMMARY:Sommerfest des NSV
DESCRIPTION:
URL:https://www.skiklub-oker.de/event/sommerfest-des-nsv/
END:VEVENT
END:VCALENDAR