BEGIN:VCALENDAR
VERSION:2.0
PRODID:-//Skiklub Oker/Harz e.V. - ECPv5.0.0//NONSGML v1.0//EN
CALSCALE:GREGORIAN
METHOD:PUBLISH
X-WR-CALNAME:Skiklub Oker/Harz e.V.
X-ORIGINAL-URL:https://www.skiklub-oker.de
X-WR-CALDESC:Veranstaltungen im Skiklub Oker/Harz e.V.
BEGIN:VTIMEZONE
TZID:Europe/Berlin
BEGIN:DAYLIGHT
TZOFFSETFROM:+0100
TZOFFSETTO:+0200
TZNAME:CEST
DTSTART:20160327T010000
END:DAYLIGHT
BEGIN:STANDARD
TZOFFSETFROM:+0200
TZOFFSETTO:+0100
TZNAME:CET
DTSTART:20161030T010000
END:STANDARD
END:VTIMEZONE
BEGIN:VEVENT
DTSTART;TZID=Europe/Berlin:20160813T110000
DTEND;TZID=Europe/Berlin:20160813T170000
DTSTAMP:20260424T080310
CREATED:20160514T190241Z
LAST-MODIFIED:20160514T190241Z
UID:2601-1471086000-1471107600@www.skiklub-oker.de
SUMMARY:Sommerfest Skihütte
DESCRIPTION:Wir wollen mal wieder über den Sport hinaus zusammenkommen\, gerade auch mit den nicht (mehr) Aktiven; wiedersehen\, kennenlernen\, an der Hütte freuen. Für Speis und Trank wird gesorgt sein. \n
URL:https://www.skiklub-oker.de/event/sommerfest-skihuette/
END:VEVENT
END:VCALENDAR