BEGIN:VCALENDAR
VERSION:2.0
PRODID:-//Skiklub Oker/Harz e.V. - ECPv5.0.0//NONSGML v1.0//EN
CALSCALE:GREGORIAN
METHOD:PUBLISH
X-WR-CALNAME:Skiklub Oker/Harz e.V.
X-ORIGINAL-URL:https://www.skiklub-oker.de
X-WR-CALDESC:Veranstaltungen im Skiklub Oker/Harz e.V.
BEGIN:VTIMEZONE
TZID:Europe/Berlin
BEGIN:DAYLIGHT
TZOFFSETFROM:+0100
TZOFFSETTO:+0200
TZNAME:CEST
DTSTART:20160327T010000
END:DAYLIGHT
BEGIN:STANDARD
TZOFFSETFROM:+0200
TZOFFSETTO:+0100
TZNAME:CET
DTSTART:20161030T010000
END:STANDARD
END:VTIMEZONE
BEGIN:VEVENT
DTSTART;TZID=Europe/Berlin:20161119T100000
DTEND;TZID=Europe/Berlin:20161119T123000
DTSTAMP:20260423T141338
CREATED:20160927T205559Z
LAST-MODIFIED:20160927T205712Z
UID:2732-1479549600-1479558600@www.skiklub-oker.de
SUMMARY:Sportmesse-Skibasar im Autohaus Nordstadt Goslar-Baßgeige
DESCRIPTION:Wie in den letzten Jahren veranstalten wir unseren Skibasar im Rahmen einer Sportmesse zusammen mit dem Autohaus Nordstadt. Es gibt Gelegenheit zu privatem Verkauf und Kauf von Skimaterial. Außerdem Beratung zu Berg-\, Kletter- und Bikesport. \n
URL:https://www.skiklub-oker.de/event/sportmesse-skibasar-im-autohaus-nordstadt-goslar-bassgeige/
END:VEVENT
END:VCALENDAR