BEGIN:VCALENDAR
VERSION:2.0
PRODID:-//Skiklub Oker/Harz e.V. - ECPv5.0.0//NONSGML v1.0//EN
CALSCALE:GREGORIAN
METHOD:PUBLISH
X-WR-CALNAME:Skiklub Oker/Harz e.V.
X-ORIGINAL-URL:https://www.skiklub-oker.de
X-WR-CALDESC:Veranstaltungen im Skiklub Oker/Harz e.V.
BEGIN:VTIMEZONE
TZID:Europe/Berlin
BEGIN:DAYLIGHT
TZOFFSETFROM:+0100
TZOFFSETTO:+0200
TZNAME:CEST
DTSTART:20170326T010000
END:DAYLIGHT
BEGIN:STANDARD
TZOFFSETFROM:+0200
TZOFFSETTO:+0100
TZNAME:CET
DTSTART:20171029T010000
END:STANDARD
END:VTIMEZONE
BEGIN:VEVENT
DTSTART;TZID=Europe/Berlin:20171125T100000
DTEND;TZID=Europe/Berlin:20171125T130000
DTSTAMP:20260422T020241
CREATED:20170612T165058Z
LAST-MODIFIED:20171109T074253Z
UID:3271-1511604000-1511614800@www.skiklub-oker.de
SUMMARY:Sportmesse-Skibasar Skiklub Oker
DESCRIPTION:Autohaus Wentorf & Schenkhut\, Bornhardtstraße 6\, Goslar-Baßgeige. \n \n
URL:https://www.skiklub-oker.de/event/sportmesse-skibasar-skiklub-oker/
END:VEVENT
END:VCALENDAR