BEGIN:VCALENDAR
VERSION:2.0
PRODID:-//Skiklub Oker/Harz e.V. - ECPv5.0.0//NONSGML v1.0//EN
CALSCALE:GREGORIAN
METHOD:PUBLISH
X-WR-CALNAME:Skiklub Oker/Harz e.V.
X-ORIGINAL-URL:https://www.skiklub-oker.de
X-WR-CALDESC:Veranstaltungen im Skiklub Oker/Harz e.V.
BEGIN:VTIMEZONE
TZID:Europe/Berlin
BEGIN:DAYLIGHT
TZOFFSETFROM:+0100
TZOFFSETTO:+0200
TZNAME:CEST
DTSTART:20170326T010000
END:DAYLIGHT
BEGIN:STANDARD
TZOFFSETFROM:+0200
TZOFFSETTO:+0100
TZNAME:CET
DTSTART:20171029T010000
END:STANDARD
END:VTIMEZONE
BEGIN:VEVENT
DTSTART;TZID=Europe/Berlin:20171215T160000
DTEND;TZID=Europe/Berlin:20171215T180000
DTSTAMP:20260421T222324
CREATED:20171111T220934Z
LAST-MODIFIED:20171111T220934Z
UID:3940-1513353600-1513360800@www.skiklub-oker.de
SUMMARY:Weihnachtsfeier 2017
DESCRIPTION:Die Weihnachtsfeier für unsere jüngsten Skiklubmitglieder findet am 15.Dezember 2017 statt. \nBitte den Flyer beachten!\nDer Weihnachtsmann kommt \n
URL:https://www.skiklub-oker.de/event/weihnachtsfeier-2017/
END:VEVENT
END:VCALENDAR