BEGIN:VCALENDAR
VERSION:2.0
PRODID:-//Skiklub Oker/Harz e.V. - ECPv5.0.0//NONSGML v1.0//EN
CALSCALE:GREGORIAN
METHOD:PUBLISH
X-WR-CALNAME:Skiklub Oker/Harz e.V.
X-ORIGINAL-URL:https://www.skiklub-oker.de
X-WR-CALDESC:Veranstaltungen im Skiklub Oker/Harz e.V.
BEGIN:VTIMEZONE
TZID:Europe/Berlin
BEGIN:DAYLIGHT
TZOFFSETFROM:+0100
TZOFFSETTO:+0200
TZNAME:CEST
DTSTART:20190331T010000
END:DAYLIGHT
BEGIN:STANDARD
TZOFFSETFROM:+0200
TZOFFSETTO:+0100
TZNAME:CET
DTSTART:20191027T010000
END:STANDARD
END:VTIMEZONE
BEGIN:VEVENT
DTSTART;TZID=Europe/Berlin:20190102T130000
DTEND;TZID=Europe/Berlin:20190105T160000
DTSTAMP:20260421T114259
CREATED:20181122T222313Z
LAST-MODIFIED:20181122T222313Z
UID:5035-1546434000-1546704000@www.skiklub-oker.de
SUMMARY:Winterlehrgang
DESCRIPTION:Winterlehrgang 02.01. 13:00 Uhr – 05.01.2019 16:00 Uhr (ehemals Weihnachtslehrgang)\n    verantwortlich: Ute & Werner\n    zwischen Weihnachten und Neujahr nach Absprache Treffen auf der Hütte  \n
URL:https://www.skiklub-oker.de/event/winterlehrgang/
END:VEVENT
END:VCALENDAR